BEGIN:VCALENDAR
VERSION:2.0
PRODID:-//NARF - ECPv6.3.3.1//NONSGML v1.0//EN
CALSCALE:GREGORIAN
METHOD:PUBLISH
X-ORIGINAL-URL:https://nepaladventurerunning.org
X-WR-CALDESC:Events for NARF
REFRESH-INTERVAL;VALUE=DURATION:PT1H
X-Robots-Tag:noindex
X-PUBLISHED-TTL:PT1H
BEGIN:VTIMEZONE
TZID:UTC
BEGIN:STANDARD
TZOFFSETFROM:+0000
TZOFFSETTO:+0000
TZNAME:UTC
DTSTART:20240101T000000
END:STANDARD
END:VTIMEZONE
BEGIN:VEVENT
DTSTART;VALUE=DATE:20240405
DTEND;VALUE=DATE:20240406
DTSTAMP:20260424T155739
CREATED:20240312T173902Z
LAST-MODIFIED:20240322T085957Z
UID:1247-1712275200-1712361599@nepaladventurerunning.org
SUMMARY:ManjushreeTrail Race
DESCRIPTION:The Manjushree Trail Race (MTR) is the only ITRA certified 100 mile trail race in Nepal. The race route takes runners along the Kathmandu valley rim ridge line and across the seven peaks that surround the valley. As part of this\, the trail also crosses two national park; Nagarjun and Shivapuri.
URL:https://nepaladventurerunning.org/event/manjushreetrail-race/
LOCATION:Badikhel\, Badikhel\, Lalitpur\, Godavari\, Bagmati\, 44600\, Nepal
CATEGORIES:2024
ATTACH;FMTTYPE=image/jpeg:https://nepaladventurerunning.org/wp-content/uploads/2024/02/Manjushree-Trail-Race-1.jpg
ORGANIZER;CN="Manjushree Trail Race":MAILTO:info@manjushreetrailrace.com
END:VEVENT
END:VCALENDAR